BEGIN:VCALENDAR
VERSION:2.0
PRODID: -//Q4 Inc.//EN
METHOD:PUBLISH
BEGIN:VTIMEZONE
TZID:America/New_York
X-LIC-LOCATION:America/New_York
BEGIN:DAYLIGHT
TZOFFSETFROM:-0500
TZOFFSETTO:-0400
TZNAME:EDT
DTSTART:19700308T020000
RRULE:FREQ=YEARLY;BYMONTH=3;BYDAY=2SU
END:DAYLIGHT
BEGIN:STANDARD
TZOFFSETFROM:-0400
TZOFFSETTO:-0500
TZNAME:EST
DTSTART:19701101T020000
RRULE:FREQ=YEARLY;BYMONTH=11;BYDAY=1SU
END:STANDARD
END:VTIMEZONE
BEGIN:VEVENT
ORGANIZER:MAILTO:investor_relations@organon.com
DTSTART;TZID="America/New_York":20260507T083000
DTEND;TZID="America/New_York":20260507T093000
LOCATION:
UID:a97f1482-dfaf-4e76-9eb5-5825316d022b
DTSTAMP:20260420T084353
SUMMARY:Organon & Co., Q1 2026 Earnings Call and Webcast
DESCRIPTION:View more on: https://www.organon.com/events/organon-co-q1-2026-earnings-call-and-webcast/
URL;VALUE=URI:https://www.organon.com/events/organon-co-q1-2026-earnings-call-and-webcast/
PRIORITY:5
CLASS:PUBLIC
END:VEVENT
END:VCALENDAR